BEGIN:VCALENDAR
VERSION:2.0
PRODID:-//宇都宮けんじ公式サイト - ECPv6.15.13//NONSGML v1.0//EN
CALSCALE:GREGORIAN
METHOD:PUBLISH
X-WR-CALNAME:宇都宮けんじ公式サイト
X-ORIGINAL-URL:https://utsunomiyakenji.jp
X-WR-CALDESC:宇都宮けんじ公式サイト のイベント
REFRESH-INTERVAL;VALUE=DURATION:PT1H
X-Robots-Tag:noindex
X-PUBLISHED-TTL:PT1H
BEGIN:VTIMEZONE
TZID:Asia/Tokyo
BEGIN:STANDARD
TZOFFSETFROM:+0900
TZOFFSETTO:+0900
TZNAME:JST
DTSTART:20210101T000000
END:STANDARD
END:VTIMEZONE
BEGIN:VEVENT
DTSTART;TZID=Asia/Tokyo:20220925T133000
DTEND;TZID=Asia/Tokyo:20220925T163000
DTSTAMP:20260424T151547
CREATED:20220909T094958Z
LAST-MODIFIED:20220909T101842Z
UID:8391-1664112600-1664123400@utsunomiyakenji.jp
SUMMARY:ホントは面白い地方自治を考えるシンポジウム
DESCRIPTION:地方の政治から、まともな日本を取り戻すために。\n統一教会問題、森友・加計学園問題、「国葬」問題…。政治家は平気で嘘をつく、政治に期待しても何も変わらない。テレビや報道で接する政治は汚くて、私たちの生活から遠いところにある感じがします。 \nしかし、同じ政治でも地方議会・地方自治は地味だけど、面白い！ 自分たちの地域を自分たちの手でつくる楽しさ、地域の課題について、市民が議論に参加できる喜び。私たちは市民に一番近い、そして住民福祉を目的とした地方自治体こそが政治を問い直す要だと思います。 \n今回のシンポジウムは、宇都宮けんじさん、五十嵐えりさんに、「みんなで作る未来のいたばし」を旗揚げした田原よしゆきさんを加え、地方議会の魅力、地方自治の可能性について語って頂きます。 \n  \n五十嵐えり（都議会議員）武蔵野市（1 人区）で、政党・会派を超えた「市民」の代表として当選（立憲民主党）。 \n田原よしゆき（みんなで作る未来のいたばし）大山地区の再開発問題で住民自治に目覚め、市民の声が届く区政を目指し「みんなで作る未来のいたばし」を旗揚げした。 \n日時：9 月25 日（日）13：30 ～ 16：30\n場所：志村コミュニティーホール第２レクホール( 志村図書館に併設)\n　板橋区小豆沢1-8-1 03-5994-3081\n資料代：300円\nカンパご協力のお願い \nみずほ銀行 成増支店 \n普通口座・3066353 \n口座名：みんなで作る未来のいたばし \n  \n主催：みんなで作る未来のいたばし \n代表：田原よしゆき \n・ 長野市生まれ・松本深志高、早稲田大学卒業 \n＜前歴＞・赤十字関連団体勤務（日大板橋病院に出向） \n・厚生労働省労働基準局非常勤職員・板橋区スクールサポートスタッフ \n173-0014　板橋区大山東町60-6-602 \n電話 03-5877-6150
URL:https://utsunomiyakenji.jp/schedule/20220925/
LOCATION:志村コミュニティーホール第２レクホール
CATEGORIES:講演,集会
END:VEVENT
END:VCALENDAR